BEGIN:VCALENDAR
VERSION:2.0
PRODID:-//wp-events-plugin.com//7.2.3.1//EN
BEGIN:VEVENT
UID:29@citroenvisaclub.nl
DTSTART;TZID=Europe/Amsterdam:20260613T100000
DTEND;TZID=Europe/Amsterdam:20260613T150000
DTSTAMP:20260302T103212Z
URL:https://www.citroenvisaclub.nl/events/magazijn-sleutel-dag-3/
SUMMARY:Magazijn/sleutel-dag
DESCRIPTION:Ingang zit aan de achterzijde
LOCATION:Magazijn Visa Club\, Eemslandweg 28\, 7894AB Zwartemeer\, Nederlan
 d
X-APPLE-STRUCTURED-LOCATION;VALUE=URI;X-ADDRESS=Eemslandweg 28\, 7894AB Zwa
 rtemeer\, Nederland;X-APPLE-RADIUS=100;X-TITLE=Magazijn Visa Club:geo:0,0
END:VEVENT
BEGIN:VTIMEZONE
TZID:Europe/Amsterdam
X-LIC-LOCATION:Europe/Amsterdam
BEGIN:DAYLIGHT
DTSTART:20260329T030000
TZOFFSETFROM:+0100
TZOFFSETTO:+0200
TZNAME:CEST
END:DAYLIGHT
END:VTIMEZONE
END:VCALENDAR